BEGIN:VCALENDAR
VERSION:2.0
PRODID:-//The Dance Company - ECPv6.15.20//NONSGML v1.0//EN
CALSCALE:GREGORIAN
METHOD:PUBLISH
X-WR-CALNAME:The Dance Company
X-ORIGINAL-URL:https://www.thedancecompanyonline.com
X-WR-CALDESC:Events for The Dance Company
REFRESH-INTERVAL;VALUE=DURATION:PT1H
X-Robots-Tag:noindex
X-PUBLISHED-TTL:PT1H
BEGIN:VTIMEZONE
TZID:America/New_York
BEGIN:DAYLIGHT
TZOFFSETFROM:-0500
TZOFFSETTO:-0400
TZNAME:EDT
DTSTART:20250309T070000
END:DAYLIGHT
BEGIN:STANDARD
TZOFFSETFROM:-0400
TZOFFSETTO:-0500
TZNAME:EST
DTSTART:20251102T060000
END:STANDARD
BEGIN:DAYLIGHT
TZOFFSETFROM:-0500
TZOFFSETTO:-0400
TZNAME:EDT
DTSTART:20260308T070000
END:DAYLIGHT
BEGIN:STANDARD
TZOFFSETFROM:-0400
TZOFFSETTO:-0500
TZNAME:EST
DTSTART:20261101T060000
END:STANDARD
BEGIN:DAYLIGHT
TZOFFSETFROM:-0500
TZOFFSETTO:-0400
TZNAME:EDT
DTSTART:20270314T070000
END:DAYLIGHT
BEGIN:STANDARD
TZOFFSETFROM:-0400
TZOFFSETTO:-0500
TZNAME:EST
DTSTART:20271107T060000
END:STANDARD
END:VTIMEZONE
BEGIN:VEVENT
DTSTART;VALUE=DATE:20260428
DTEND;VALUE=DATE:20260429
DTSTAMP:20260422T055028
CREATED:20260415T164240Z
LAST-MODIFIED:20260415T164240Z
UID:4526-1777334400-1777420799@www.thedancecompanyonline.com
SUMMARY:Make Up Classes
DESCRIPTION:Make up classes will be held for some Tuesday and Thursday classes on Tuesday\, 4/28. Please check your email to see if your child’s class will be a part of these make ups.
URL:https://www.thedancecompanyonline.com/event/make-up-classes/
LOCATION:TDC Studio\, 130 NH-101A\, Amherst\, NH\, 03031
CATEGORIES:Important Dates
ATTACH;FMTTYPE=image/png:https://www.thedancecompanyonline.com/wp-content/uploads/2026/04/Website-event-images-4-scaled.png
END:VEVENT
BEGIN:VEVENT
DTSTART;VALUE=DATE:20260523
DTEND;VALUE=DATE:20260526
DTSTAMP:20260422T055028
CREATED:20250926T175942Z
LAST-MODIFIED:20250926T175942Z
UID:3991-1779494400-1779753599@www.thedancecompanyonline.com
SUMMARY:Closed - Memorial Day
DESCRIPTION:The Dance Co will be closed May 23rd through 25th in observance of Memorial Day.
URL:https://www.thedancecompanyonline.com/event/closed-memorial-day-2/
LOCATION:TDC Studio\, 130 NH-101A\, Amherst\, NH\, 03031
CATEGORIES:Important Dates
ATTACH;FMTTYPE=image/png:https://www.thedancecompanyonline.com/wp-content/uploads/2025/09/Website-event-images-2-9-scaled.png
END:VEVENT
BEGIN:VEVENT
DTSTART;VALUE=DATE:20260601
DTEND;VALUE=DATE:20260607
DTSTAMP:20260422T055028
CREATED:20250926T180649Z
LAST-MODIFIED:20250926T180649Z
UID:3995-1780272000-1780790399@www.thedancecompanyonline.com
SUMMARY:Last Week Of Class
DESCRIPTION:The last week of classes for the 2025/2026 season will be June 1st through 6th! This week will be TDC Spirit Week!
URL:https://www.thedancecompanyonline.com/event/last-week-of-class/
LOCATION:TDC Studio\, 130 NH-101A\, Amherst\, NH\, 03031
CATEGORIES:Important Dates
ATTACH;FMTTYPE=image/png:https://www.thedancecompanyonline.com/wp-content/uploads/2025/09/Website-event-images-2-11-scaled.png
END:VEVENT
BEGIN:VEVENT
DTSTART;VALUE=DATE:20260609
DTEND;VALUE=DATE:20260610
DTSTAMP:20260422T055028
CREATED:20260415T164429Z
LAST-MODIFIED:20260415T164429Z
UID:4528-1780963200-1781049599@www.thedancecompanyonline.com
SUMMARY:Make Up Classes
DESCRIPTION:Due to snow days\, all Tuesday classes will have a make up class held on Tuesday\, 6/9 at their regularly scheduled times. Please let us know if your dancer will not be attending!
URL:https://www.thedancecompanyonline.com/event/make-up-classes-2/
LOCATION:TDC Studio\, 130 NH-101A\, Amherst\, NH\, 03031
CATEGORIES:Important Dates
ATTACH;FMTTYPE=image/png:https://www.thedancecompanyonline.com/wp-content/uploads/2026/04/Website-event-images-5-scaled.png
END:VEVENT
END:VCALENDAR