BEGIN:VCALENDAR
VERSION:2.0
PRODID:-//The Dance Company - ECPv6.15.20//NONSGML v1.0//EN
CALSCALE:GREGORIAN
METHOD:PUBLISH
X-ORIGINAL-URL:https://www.thedancecompanyonline.com
X-WR-CALDESC:Events for The Dance Company
REFRESH-INTERVAL;VALUE=DURATION:PT1H
X-Robots-Tag:noindex
X-PUBLISHED-TTL:PT1H
BEGIN:VTIMEZONE
TZID:America/New_York
BEGIN:DAYLIGHT
TZOFFSETFROM:-0500
TZOFFSETTO:-0400
TZNAME:EDT
DTSTART:20240310T070000
END:DAYLIGHT
BEGIN:STANDARD
TZOFFSETFROM:-0400
TZOFFSETTO:-0500
TZNAME:EST
DTSTART:20241103T060000
END:STANDARD
BEGIN:DAYLIGHT
TZOFFSETFROM:-0500
TZOFFSETTO:-0400
TZNAME:EDT
DTSTART:20250309T070000
END:DAYLIGHT
BEGIN:STANDARD
TZOFFSETFROM:-0400
TZOFFSETTO:-0500
TZNAME:EST
DTSTART:20251102T060000
END:STANDARD
BEGIN:DAYLIGHT
TZOFFSETFROM:-0500
TZOFFSETTO:-0400
TZNAME:EDT
DTSTART:20260308T070000
END:DAYLIGHT
BEGIN:STANDARD
TZOFFSETFROM:-0400
TZOFFSETTO:-0500
TZNAME:EST
DTSTART:20261101T060000
END:STANDARD
END:VTIMEZONE
BEGIN:VEVENT
DTSTART;TZID=America/New_York:20250820T100000
DTEND;TZID=America/New_York:20250820T130000
DTSTAMP:20260420T040944
CREATED:20250621T021019Z
LAST-MODIFIED:20250806T024037Z
UID:3701-1755684000-1755694800@www.thedancecompanyonline.com
SUMMARY:Dance Party: Flower Power
DESCRIPTION:Our 2025 summer dance parties are back! Fun themes and activities your dancer will love! \nAges 3-8 \nWednesdays 10am-1pm \n$50 or 4 for $180 \n8/20: Flower Power – Moana Party!
URL:https://www.thedancecompanyonline.com/event/dance-party-flower-power/
LOCATION:TDC Studio\, 130 NH-101A\, Amherst\, NH\, 03031
ATTACH;FMTTYPE=image/png:https://www.thedancecompanyonline.com/wp-content/uploads/2025/06/moana-820.png
END:VEVENT
BEGIN:VEVENT
DTSTART;TZID=America/New_York:20250826T163000
DTEND;TZID=America/New_York:20250826T183000
DTSTAMP:20260420T040944
CREATED:20250623T023717Z
LAST-MODIFIED:20250806T024052Z
UID:3742-1756225800-1756233000@www.thedancecompanyonline.com
SUMMARY:Acro Bootcamp
DESCRIPTION:Ages 6-18 are invited to join us for Acro Bootcamp! Work on your skills\, technique\, strength\, flexibility\, balance\, and more! Acro Team auditions to follow 6:30-7:00. Don’t miss out on the fun! \nSign up today! \nAges 6-18 \n$50
URL:https://www.thedancecompanyonline.com/event/acro-bootcamp-2/
LOCATION:TDC Studio\, 130 NH-101A\, Amherst\, NH\, 03031
CATEGORIES:Summer
ATTACH;FMTTYPE=image/png:https://www.thedancecompanyonline.com/wp-content/uploads/2025/06/Website-event-images-5.png
END:VEVENT
BEGIN:VEVENT
DTSTART;TZID=America/New_York:20250827T163000
DTEND;TZID=America/New_York:20250827T183000
DTSTAMP:20260420T040944
CREATED:20250623T023925Z
LAST-MODIFIED:20250806T024107Z
UID:3744-1756312200-1756319400@www.thedancecompanyonline.com
SUMMARY:Hip Hop Bootcamp
DESCRIPTION:Get your groove on! Ages 6-18 are invited to join us for Hip Hop Bootcamp! Hip Hop Crew auditions to follow 6:30-7:00. Don’t miss out on the fun! \nSign up today! \nAges 6-18 \n$50
URL:https://www.thedancecompanyonline.com/event/hip-hop-bootcamp-2/
LOCATION:TDC Studio\, 130 NH-101A\, Amherst\, NH\, 03031
CATEGORIES:Summer
ATTACH;FMTTYPE=image/png:https://www.thedancecompanyonline.com/wp-content/uploads/2025/06/Website-event-images-2.png
END:VEVENT
BEGIN:VEVENT
DTSTART;TZID=America/New_York:20250911T170000
DTEND;TZID=America/New_York:20250911T183000
DTSTAMP:20260420T040944
CREATED:20250904T040909Z
LAST-MODIFIED:20250904T040909Z
UID:3857-1757610000-1757615400@www.thedancecompanyonline.com
SUMMARY:Open House
DESCRIPTION:SEASON 16 IS HERE! We’re kicking off an epic new year at The Dance Company and YOU’RE INVITED!\nJoin us for our Open House on Thursday\, September 11th from 5:00–6:30 PM! Meet our amazing faculty Tour our studio space Shop gear & swag Get a sneak peek into all things TDC!\n See you at the studio!130 Rt 101a Amherst\, NH\nLearn more about us  https://www.thedancecompanyonline.com/
URL:https://www.thedancecompanyonline.com/event/open-house-3/
LOCATION:TDC Studio\, 130 NH-101A\, Amherst\, NH\, 03031
CATEGORIES:Studio Event
ATTACH;FMTTYPE=image/png:https://www.thedancecompanyonline.com/wp-content/uploads/2025/09/Website-event-images-copy-scaled.png
END:VEVENT
BEGIN:VEVENT
DTSTART;VALUE=DATE:20250913
DTEND;VALUE=DATE:20250914
DTSTAMP:20260420T040944
CREATED:20250802T051237Z
LAST-MODIFIED:20250806T024123Z
UID:3796-1757721600-1757807999@www.thedancecompanyonline.com
SUMMARY:Season 16 Begins
DESCRIPTION:Classes for our 16th season of dance begin on 9/13! Check out our schedule by clicking “Schedule 25/26” on our menu\, and register to join the fun!
URL:https://www.thedancecompanyonline.com/event/season-16-begins/
CATEGORIES:Important Dates
ATTACH;FMTTYPE=image/png:https://www.thedancecompanyonline.com/wp-content/uploads/2025/08/Website-event-images-2-scaled.png
END:VEVENT
BEGIN:VEVENT
DTSTART;TZID=America/New_York:20250913T130000
DTEND;TZID=America/New_York:20250913T163000
DTSTAMP:20260420T040944
CREATED:20250904T041755Z
LAST-MODIFIED:20250904T124058Z
UID:3859-1757768400-1757781000@www.thedancecompanyonline.com
SUMMARY:Seussical Jr Auditions
DESCRIPTION:Performers in 2nd-12th grade are invited to be a part of our fall production of Seussical Jr! Auditions will be held at TDC on September 13th. Check out all the info on our audition page! 
URL:https://www.thedancecompanyonline.com/event/seussical-jr-auditions/
LOCATION:TDC Studio\, 130 NH-101A\, Amherst\, NH\, 03031
CATEGORIES:Auditions
ATTACH;FMTTYPE=image/png:https://www.thedancecompanyonline.com/wp-content/uploads/2025/09/Website-event-images-2-scaled.png
END:VEVENT
BEGIN:VEVENT
DTSTART;VALUE=DATE:20250929
DTEND;VALUE=DATE:20250930
DTSTAMP:20260420T040944
CREATED:20250904T040444Z
LAST-MODIFIED:20250907T024354Z
UID:3855-1759104000-1759190399@www.thedancecompanyonline.com
SUMMARY:TumbleBugs Session 1 Begins
DESCRIPTION:Ages 6 months – 6 years\n\n\n Dance •  Tumble •  Music •  Fun\n\n\n\n\n\nOur 6-week Preschool Dance & Tumble Program is the perfect way to get your little one moving\, grooving\, and gaining confidence—all with flexible scheduling options for busy families!\n\n\nPick the class time that works for YOU each week—no long-term commitment\, just pure fun for your little bug!\n\n\n\n\n\nAll details + sign-up form are below!\n\n\nhttps://pci.jotform.com/form/252445576816163
URL:https://www.thedancecompanyonline.com/event/tumblebugs-session-1-begins/
LOCATION:TDC Studio\, 130 NH-101A\, Amherst\, NH\, 03031
CATEGORIES:Sessions
ATTACH;FMTTYPE=image/png:https://www.thedancecompanyonline.com/wp-content/uploads/2025/09/Website-event-images-scaled.png
END:VEVENT
BEGIN:VEVENT
DTSTART;TZID=America/New_York:20251003T121500
DTEND;TZID=America/New_York:20251003T124500
DTSTAMP:20260420T040944
CREATED:20250925T194721Z
LAST-MODIFIED:20250925T195916Z
UID:3975-1759493700-1759495500@www.thedancecompanyonline.com
SUMMARY:Story Time With A Twist: Goodnight\, Goodnight\, Construction Site
DESCRIPTION:STORY TIME WITH A TWIST IS BACK! \n\n\nGet ready to move\, groove\, and dig into the fun — our first Story Time of the season is rolling in! \n Join us October 3rd for Goodnight\, Goodnight\, Construction Site!\nThis isn’t your average story time — it’s full of dance\, imagination\, and active fun for kiddos age 6 and under. \n\n\n Just $10 per family\n Perfect for busy little builders with big energy!\n\n\nCheck out all our community events coming up!\nhttps://pci.jotform.com/form/252443692194159
URL:https://www.thedancecompanyonline.com/event/story-time-with-a-twist-goodnight-goodnight-construction-site/
LOCATION:TDC Studio\, 130 NH-101A\, Amherst\, NH\, 03031
CATEGORIES:Community
ATTACH;FMTTYPE=image/png:https://www.thedancecompanyonline.com/wp-content/uploads/2025/09/Website-event-images-2-5-scaled.png
END:VEVENT
BEGIN:VEVENT
DTSTART;TZID=America/New_York:20251004T110000
DTEND;TZID=America/New_York:20251004T130000
DTSTAMP:20260420T040944
CREATED:20250917T201539Z
LAST-MODIFIED:20250918T205543Z
UID:3931-1759575600-1759582800@www.thedancecompanyonline.com
SUMMARY:Dancing For Wishes
DESCRIPTION:Get ready for an unforgettable show!\n\nOn October 4th\, local dance studios are joining forces for Dancing for Wishes—a benefit performance supporting Make-A-Wish New Hampshire. This exciting event brings together incredible local talent to help make dreams come true for children facing critical illnesses.\n\nDancing for Wishes is all about spreading joy\, hope\, and the magic of community. Every ticket sold and every donation made goes directly toward granting life-changing wishes—like meeting a hero\, taking a dream trip\, or creating unforgettable memories.\n\nDon’t miss this inspiring showcase that proves when we dance together\, we can make a real difference. Tickets are on sale now—come be part of the magic!\n\n\nSaturday\, 10/4 at 11am\nNashua High School North\nTickets on sale now – online only!
URL:https://www.thedancecompanyonline.com/event/dancing-for-wishes/
LOCATION:Nashua high school north
CATEGORIES:Dance Performance
ATTACH;FMTTYPE=image/png:https://www.thedancecompanyonline.com/wp-content/uploads/2025/09/Website-event-images-2-2-scaled.png
END:VEVENT
BEGIN:VEVENT
DTSTART;VALUE=DATE:20251006
DTEND;VALUE=DATE:20251012
DTSTAMP:20260420T040944
CREATED:20250904T124547Z
LAST-MODIFIED:20250918T205603Z
UID:3861-1759708800-1760227199@www.thedancecompanyonline.com
SUMMARY:TDC Goes Gold
DESCRIPTION:October 6th-11th TDC goes GOLD in support of childhood cancer. Help us raise money for The Jimmy Fund!
URL:https://www.thedancecompanyonline.com/event/tdc-goes-gold/
LOCATION:TDC Studio\, 130 NH-101A\, Amherst\, NH\, 03031
CATEGORIES:Studio Event
ATTACH;FMTTYPE=image/png:https://www.thedancecompanyonline.com/wp-content/uploads/2025/09/Website-event-images-2-1-scaled.png
END:VEVENT
BEGIN:VEVENT
DTSTART;VALUE=DATE:20251013
DTEND;VALUE=DATE:20251014
DTSTAMP:20260420T040944
CREATED:20250813T181636Z
LAST-MODIFIED:20251009T145935Z
UID:3813-1760313600-1760399999@www.thedancecompanyonline.com
SUMMARY:Closed - Indigenous Peoples'/Columbus Day
DESCRIPTION:The Dance Co will be closed on Monday\, October 13th in observance of Indigenous Peoples’ Day/Columbus Day
URL:https://www.thedancecompanyonline.com/event/closed-indigenous-peoples-columbus-day/
LOCATION:TDC Studio\, 130 NH-101A\, Amherst\, NH\, 03031
CATEGORIES:Important Dates
ATTACH;FMTTYPE=image/png:https://www.thedancecompanyonline.com/wp-content/uploads/2025/08/Columbus-day-scaled.png
END:VEVENT
BEGIN:VEVENT
DTSTART;TZID=America/New_York:20251017T121500
DTEND;TZID=America/New_York:20251017T124500
DTSTAMP:20260420T040944
CREATED:20250925T200543Z
LAST-MODIFIED:20250925T200543Z
UID:3977-1760703300-1760705100@www.thedancecompanyonline.com
SUMMARY:Story Time With A Twist: A Very Hungry Caterpillar's Creepy-Crawly Halloween
DESCRIPTION:Join us for our next Story Time With A Twist!\n\n\nGet ready to move\, groove to your favorite stories!\n\n\n10/17: The Very Hungry Caterpillar’s Creepy-Crawly Halloween\n\nJust $10 per family\nFamilies with children age 6-\n\n\n\nCheck out all our community events coming up!\nhttps://pci.jotform.com/form/252443692194159
URL:https://www.thedancecompanyonline.com/event/story-time-with-a-twist-a-very-hungry-caterpillars-creepy-crawly-halloween/
LOCATION:TDC Studio\, 130 NH-101A\, Amherst\, NH\, 03031
CATEGORIES:Community
ATTACH;FMTTYPE=image/png:https://www.thedancecompanyonline.com/wp-content/uploads/2025/09/Website-event-images-2-copy-2-scaled.png
END:VEVENT
BEGIN:VEVENT
DTSTART;TZID=America/New_York:20251021T100000
DTEND;TZID=America/New_York:20251021T103000
DTSTAMP:20260420T040944
CREATED:20251009T150916Z
LAST-MODIFIED:20251009T150916Z
UID:4029-1761040800-1761042600@www.thedancecompanyonline.com
SUMMARY:Story Time With A Twist At The Nashua Public Library
DESCRIPTION:Story Time With A Twist – Featuring Halloween Hustle! Presented by The Dance Company at the Nashua Public Library\nGet ready to move\, groove\, and play through your favorite stories! Join us for an interactive story time that brings books to life through dance and creative movement. Monday\, October 21st Time: 10:00-10:30 Nashua Public Library FREE and open to all kids & families!\nThis week’s featured story: Halloween Hustle – a funky\, funny tale that’s perfect for getting in the spooky spirit while dancing your heart out!Perfect for kids who love stories and love to move! No registration needed — just come ready to have fun!
URL:https://www.thedancecompanyonline.com/event/story-time-with-a-twist-at-the-nashua-public-library/
LOCATION:The Nashua Public Library\, 2 Court St\, Nashua\, NH\, 03060\, United States
CATEGORIES:Community
ATTACH;FMTTYPE=image/png:https://www.thedancecompanyonline.com/wp-content/uploads/2025/10/story-time-nashua-public-library-scaled.png
END:VEVENT
BEGIN:VEVENT
DTSTART;VALUE=DATE:20251024
DTEND;VALUE=DATE:20251031
DTSTAMP:20260420T040944
CREATED:20250904T131506Z
LAST-MODIFIED:20251009T145953Z
UID:3871-1761264000-1761868799@www.thedancecompanyonline.com
SUMMARY:Halloween Spirit Week
DESCRIPTION:Dress in your Halloween best and join us for a week filled with spooktacular fun at TDC! \n*We will be closed on 10/31
URL:https://www.thedancecompanyonline.com/event/halloween-spirit-week-3/
LOCATION:TDC Studio\, 130 NH-101A\, Amherst\, NH\, 03031
CATEGORIES:Studio Event
ATTACH;FMTTYPE=image/png:https://www.thedancecompanyonline.com/wp-content/uploads/2025/09/halloween-spirit-week-scaled.png
END:VEVENT
BEGIN:VEVENT
DTSTART;TZID=America/New_York:20251024T150000
DTEND;TZID=America/New_York:20251024T163000
DTSTAMP:20260420T040944
CREATED:20251009T153043Z
LAST-MODIFIED:20251021T142553Z
UID:4034-1761318000-1761323400@www.thedancecompanyonline.com
SUMMARY:Trick Or Treat At The Milford Oval
DESCRIPTION:BOO-gie Down with The Dance Company! We’re brewing up some spooktacular fun this Halloween season! Join us at the Milford Oval for some fang-tastic Trick-or-Treating!  Friday\, October 24th 3:00 – 4:30 PM Milford Oval FREE & open to all little ghouls and goblins!Come say hi\, show off your costumes\, grab some treats\, and maybe catch a few thrilling dance moves along the way! We can’t wait to see all your boo-tiful faces! No tricks — just treats!
URL:https://www.thedancecompanyonline.com/event/trick-or-treat-at-the-milford-oval/
LOCATION:The Milford Oval
CATEGORIES:Community
ATTACH;FMTTYPE=image/png:https://www.thedancecompanyonline.com/wp-content/uploads/2025/10/Website-event-images-2-1-scaled.png
END:VEVENT
BEGIN:VEVENT
DTSTART;TZID=America/New_York:20251026T160000
DTEND;TZID=America/New_York:20251026T173000
DTSTAMP:20260420T040944
CREATED:20250904T134709Z
LAST-MODIFIED:20251009T150012Z
UID:3873-1761494400-1761499800@www.thedancecompanyonline.com
SUMMARY:Trunk Or Treat
DESCRIPTION:Join us for a fun Trunk or Treat event at TDC on 10/26 from 4-5:30pm! All are welcome\, bring your friends and family! \nThink you have the most creative\, spooky\, or fun trunk? Sign up your team today for a chance to win a $100 gift card to TDC! \nSet up may begin at 3pm \nMax 4 people per team \nJust $10 to enter!
URL:https://www.thedancecompanyonline.com/event/trunk-or-treat-2/
LOCATION:TDC Studio\, 130 NH-101A\, Amherst\, NH\, 03031
CATEGORIES:Community
ATTACH;FMTTYPE=image/png:https://www.thedancecompanyonline.com/wp-content/uploads/2025/09/trunk-or-treat-scaled.png
END:VEVENT
BEGIN:VEVENT
DTSTART;VALUE=DATE:20251031
DTEND;VALUE=DATE:20251101
DTSTAMP:20260420T040944
CREATED:20250907T024836Z
LAST-MODIFIED:20251009T150033Z
UID:3880-1761868800-1761955199@www.thedancecompanyonline.com
SUMMARY:Closed - Halloween
DESCRIPTION:The Dance Company will be closed on Friday\, 10/31. Happy Halloween\, TDC!
URL:https://www.thedancecompanyonline.com/event/closed-halloween/
LOCATION:TDC Studio\, 130 NH-101A\, Amherst\, NH\, 03031
CATEGORIES:Important Dates
ATTACH;FMTTYPE=image/png:https://www.thedancecompanyonline.com/wp-content/uploads/2025/09/closed-halloween-scaled.png
END:VEVENT
BEGIN:VEVENT
DTSTART;TZID=America/New_York:20251104T100000
DTEND;TZID=America/New_York:20251104T103000
DTSTAMP:20260420T040944
CREATED:20251009T152130Z
LAST-MODIFIED:20251024T143924Z
UID:4032-1762250400-1762252200@www.thedancecompanyonline.com
SUMMARY:Story Time With A Twist At The Nashua Public Library
DESCRIPTION:Story Time With A Twist – Featuring The Naughty Penguin! Presented by The Dance Company at the Nashua Public Library\nWaddle on over for a story time like no other! Join us as we move\, groove\, and play through a fun and interactive reading of The Naughty Penguin. This isn’t your average sit-and-listen story time — we bring the book to life through dance and creative movement! Tuesday\, November 4th Time: [Insert Time Here\, if available] Nashua Public Library FREE and open to all kids & families!\nThis week’s featured book: The Naughty Penguin — a charming and cheeky tale of a little penguin learning big lessons. Expect giggles\, wiggles\, and plenty of penguin waddles! Perfect for energetic kids who love stories AND love to move!No registration needed — just bring your imagination and energy!
URL:https://www.thedancecompanyonline.com/event/story-time-with-a-twist-at-the-nashua-public-library-2/
LOCATION:The Nashua Public Library\, 2 Court St\, Nashua\, NH\, 03060\, United States
CATEGORIES:Community
ATTACH;FMTTYPE=image/png:https://www.thedancecompanyonline.com/wp-content/uploads/2025/10/Website-event-images-2-scaled.png
END:VEVENT
BEGIN:VEVENT
DTSTART;TZID=America/New_York:20251107T121500
DTEND;TZID=America/New_York:20251107T124500
DTSTAMP:20260420T040944
CREATED:20250925T201618Z
LAST-MODIFIED:20251105T201409Z
UID:3979-1762517700-1762519500@www.thedancecompanyonline.com
SUMMARY:Story Time With A Twist: Stomp Wiggle Clap And Tap
DESCRIPTION:Join us for our next Story Time With A Twist — where stories come to life with dance\, movement\, and imagination!\n\n\n📚 11/7: Stomp Wiggle Clap And Tap\n\n\n👶 For families with children age 6 and under\n\n\n💃 Move\, groove\, and wiggle to your favorite stories\n\n\n💲 Just $10 per family\n\n\n \n\n\n👉 Check out all our upcoming community events:\n\n\nhttps://pci.jotform.com/form/252443692194159
URL:https://www.thedancecompanyonline.com/event/story-time-with-a-twist-stomp-wiggle-clap-and-tap/
LOCATION:TDC Studio\, 130 NH-101A\, Amherst\, NH\, 03031
CATEGORIES:Community
ATTACH;FMTTYPE=image/png:https://www.thedancecompanyonline.com/wp-content/uploads/2025/09/Website-event-images-2-6-scaled.png
END:VEVENT
BEGIN:VEVENT
DTSTART;VALUE=DATE:20251110
DTEND;VALUE=DATE:20251111
DTSTAMP:20260420T040944
CREATED:20250904T124948Z
LAST-MODIFIED:20251024T144020Z
UID:3863-1762732800-1762819199@www.thedancecompanyonline.com
SUMMARY:TumbleBugs Session 2 Begins
DESCRIPTION:Ages 6 months – 6 years\n\n\n Dance •  Tumble •  Music •  Fun\n\n\n\n\n\nOur 6-week Preschool Dance & Tumble Program is the perfect way to get your little one moving\, grooving\, and gaining confidence—all with flexible scheduling options for busy families!\n\n\nPick the class time that works for YOU each week—no long-term commitment\, just pure fun for your little bug!\n\n\n\n\n\nAll details + sign-up form are below!\n\n\nhttps://pci.jotform.com/form/252445576816163
URL:https://www.thedancecompanyonline.com/event/tumblebugs-session-2-begins/
LOCATION:TDC Studio\, 130 NH-101A\, Amherst\, NH\, 03031
CATEGORIES:Sessions
ATTACH;FMTTYPE=image/png:https://www.thedancecompanyonline.com/wp-content/uploads/2025/09/tumblebugs-session-2-scaled.png
END:VEVENT
BEGIN:VEVENT
DTSTART;VALUE=DATE:20251111
DTEND;VALUE=DATE:20251112
DTSTAMP:20260420T040944
CREATED:20250813T182611Z
LAST-MODIFIED:20251105T201504Z
UID:3817-1762819200-1762905599@www.thedancecompanyonline.com
SUMMARY:Closed - Veterans Day
DESCRIPTION:The Dance Co will be closed on Tuesday\, November 11th in observance of Veterans Day. Thank you to all who have served our country!
URL:https://www.thedancecompanyonline.com/event/closed-veterans-day/
LOCATION:TDC Studio\, 130 NH-101A\, Amherst\, NH\, 03031
CATEGORIES:Important Dates
ATTACH;FMTTYPE=image/png:https://www.thedancecompanyonline.com/wp-content/uploads/2025/08/Veterans-day-scaled.png
END:VEVENT
BEGIN:VEVENT
DTSTART;TZID=America/New_York:20251115T140000
DTEND;TZID=America/New_York:20251115T180000
DTSTAMP:20260420T040944
CREATED:20250907T025423Z
LAST-MODIFIED:20251024T143849Z
UID:3882-1763215200-1763229600@www.thedancecompanyonline.com
SUMMARY:Seussical Jr Performances
DESCRIPTION:TDC’s fall production of Seussical Jr hits the stage November 15th! Performances at 2:00pm and 5:00pm at The Amato Center. Tickets and gifting is on sale now!
URL:https://www.thedancecompanyonline.com/event/seussical-jr-performances/
LOCATION:The Amato Center\, 56 Mont Vernon St\, Milford\, NH\, 03055\, United States
CATEGORIES:Theater Performance
ATTACH;FMTTYPE=image/png:https://www.thedancecompanyonline.com/wp-content/uploads/2025/09/Website-event-images-1-scaled.png
END:VEVENT
BEGIN:VEVENT
DTSTART;VALUE=DATE:20251117
DTEND;VALUE=DATE:20251118
DTSTAMP:20260420T040944
CREATED:20250913T031500Z
LAST-MODIFIED:20251105T201545Z
UID:3917-1763337600-1763423999@www.thedancecompanyonline.com
SUMMARY:Recital Theme Announcement
DESCRIPTION:Get excited! We will be announcing the theme for our 16th annual recital on November 17th!
URL:https://www.thedancecompanyonline.com/event/recital-theme-announcement-2/
LOCATION:TDC Studio\, 130 NH-101A\, Amherst\, NH\, 03031
CATEGORIES:Important Dates
ATTACH;FMTTYPE=image/png:https://www.thedancecompanyonline.com/wp-content/uploads/2025/09/recital-announcement-scaled.png
END:VEVENT
BEGIN:VEVENT
DTSTART;TZID=America/New_York:20251121T121500
DTEND;TZID=America/New_York:20251121T124500
DTSTAMP:20260420T040944
CREATED:20251120T212816Z
LAST-MODIFIED:20251120T212816Z
UID:4097-1763727300-1763729100@www.thedancecompanyonline.com
SUMMARY:Story Time With A Twist: A Camping Spree With Mr Magee
DESCRIPTION:Join us for our next Story Time With A Twist — where stories come to life with dance\, movement\, and imagination! 11/21: A Camping Spree With Mr Magee For families with children age 6 and under Move\, groove\, and wiggle to your favorite stories Just $10 per family Check out all our upcoming community events:https://pci.jotform.com/form/252443692194159
URL:https://www.thedancecompanyonline.com/event/story-time-with-a-twist-a-camping-spree-with-mr-magee/
LOCATION:TDC Studio\, 130 NH-101A\, Amherst\, NH\, 03031
CATEGORIES:Community
ATTACH;FMTTYPE=image/png:https://www.thedancecompanyonline.com/wp-content/uploads/2025/09/new-scaled.png
END:VEVENT
BEGIN:VEVENT
DTSTART;VALUE=DATE:20251125
DTEND;VALUE=DATE:20251130
DTSTAMP:20260420T040944
CREATED:20250813T195706Z
LAST-MODIFIED:20251113T171832Z
UID:3819-1764028800-1764460799@www.thedancecompanyonline.com
SUMMARY:Closed - Thanksgiving
DESCRIPTION:The Dance Co will be closed November 25th through 29th. Happy Thanksgiving!
URL:https://www.thedancecompanyonline.com/event/closed-thanksgiving-2/
LOCATION:TDC Studio\, 130 NH-101A\, Amherst\, NH\, 03031
CATEGORIES:Important Dates
ATTACH;FMTTYPE=image/png:https://www.thedancecompanyonline.com/wp-content/uploads/2025/08/Thanksgiving-scaled.png
END:VEVENT
BEGIN:VEVENT
DTSTART;TZID=America/New_York:20251126T090000
DTEND;TZID=America/New_York:20251126T120000
DTSTAMP:20260420T040944
CREATED:20251009T202123Z
LAST-MODIFIED:20251113T171902Z
UID:4037-1764147600-1764158400@www.thedancecompanyonline.com
SUMMARY:School's Out Mini Camp: K Pop Quest
DESCRIPTION:💥 K-POP QUEST: Mini Camp Adventure! 💥 \nCalling all tiny heroes and K-Pop stars in training! 🌟School’s out\, and the K-Pop Demon Hunters need YOUR help on a high-energy mission filled with dance battles\, crafty power-ups\, and epic fun! \n🎤💃 Ages 4–10🗓️ Wednesday\, November 26th🕘 9:00 AM – 12:00 PM💸 Just $35 for 3 jam-packed hours! \nYour little adventurer will: bust K-Pop-inspired moves\, get crafty\, play fun games\, and make memories and new friends! \n✨ Spots are limited — join the quest before it disappears into the shadow realm! ✨
URL:https://www.thedancecompanyonline.com/event/schools-out-mini-camp-k-pop-quest/
LOCATION:TDC Studio\, 130 NH-101A\, Amherst\, NH\, 03031
CATEGORIES:Community
ATTACH;FMTTYPE=image/png:https://www.thedancecompanyonline.com/wp-content/uploads/2025/10/Website-event-images-2-2-scaled.png
END:VEVENT
BEGIN:VEVENT
DTSTART;TZID=America/New_York:20251205T121500
DTEND;TZID=America/New_York:20251205T124500
DTSTAMP:20260420T040944
CREATED:20250925T210613Z
LAST-MODIFIED:20251113T171921Z
UID:3983-1764936900-1764938700@www.thedancecompanyonline.com
SUMMARY:Story Time With A Twist: How To Catch An Elf
DESCRIPTION:Join us for our next Story Time With A Twist — where stories come to life with dance\, movement\, and imagination!\n\n\n 12/5: How To Catch An Elf\n\n\n For families with children age 6 and under\n\n\n Move\, groove\, and wiggle to your favorite stories\n\n\n Just $10 per family\n\n\n \n\n\n Check out all our upcoming community events:\n\n\nhttps://pci.jotform.com/form/252443692194159
URL:https://www.thedancecompanyonline.com/event/story-time-with-a-twist-how-to-catch-an-elf-2/
LOCATION:TDC Studio\, 130 NH-101A\, Amherst\, NH\, 03031
CATEGORIES:Community
ATTACH;FMTTYPE=image/png:https://www.thedancecompanyonline.com/wp-content/uploads/2025/09/Website-event-images-2-copy-3-scaled.png
END:VEVENT
BEGIN:VEVENT
DTSTART;TZID=America/New_York:20251205T171500
DTEND;TZID=America/New_York:20251205T184500
DTSTAMP:20260420T040944
CREATED:20250913T033249Z
LAST-MODIFIED:20251113T171936Z
UID:3923-1764954900-1764960300@www.thedancecompanyonline.com
SUMMARY:Holiday Spectacular Littles Rehearsal
DESCRIPTION:We are so excited to offer opportunities for dancers ages 3-4 and 5-7 to be a part of our annual Holiday Spectacular on 12/14! \nClick here for all the info and to register!
URL:https://www.thedancecompanyonline.com/event/holiday-spectacular-littles-rehearsal/
LOCATION:TDC Studio\, 130 NH-101A\, Amherst\, NH\, 03031
CATEGORIES:Registrations
ATTACH;FMTTYPE=image/png:https://www.thedancecompanyonline.com/wp-content/uploads/2025/09/holiday-show-littles-scaled.png
END:VEVENT
BEGIN:VEVENT
DTSTART;VALUE=DATE:20251206
DTEND;VALUE=DATE:20251207
DTSTAMP:20260420T040944
CREATED:20250913T032452Z
LAST-MODIFIED:20251201T034537Z
UID:3919-1764979200-1765065599@www.thedancecompanyonline.com
SUMMARY:Descendants Auditions
DESCRIPTION:Auditions for The Dance Company’s production of Descendants will be held on Saturday\, 12/6! Check out all the info here!
URL:https://www.thedancecompanyonline.com/event/descendants-auditions/
LOCATION:TDC Studio\, 130 NH-101A\, Amherst\, NH\, 03031
CATEGORIES:Auditions
ATTACH;FMTTYPE=image/png:https://www.thedancecompanyonline.com/wp-content/uploads/2025/09/descendants-auditions-1-scaled.png
END:VEVENT
BEGIN:VEVENT
DTSTART;TZID=America/New_York:20251212T173000
DTEND;TZID=America/New_York:20251212T181500
DTSTAMP:20260420T040944
CREATED:20251023T141516Z
LAST-MODIFIED:20251210T152631Z
UID:4051-1765560600-1765563300@www.thedancecompanyonline.com
SUMMARY:Story Time With Santa
DESCRIPTION:🎄✨ Join Us for a Jolly Good Time at The Dance Company! ✨🎄 \nGet ready to kick off the holiday season with magic\, memories\, and a visit from the big guy himself! 🎅 \nFamilies with children ages 8 and under (yes\, we’ve upped the age!) are invited to Story Time with Santa at TDC on Friday\, December 12th! Santa will share a festive holiday tale\, and afterward\, families can snap some adorable photos with him. 📸🎁 \nThe story time fun is from 5:30-6:15. Spots are very limited – so don’t wait to grab yours here! 🎟️ \n👉 One form per child\, please!\n📅 Sign-ups close before 12/12/25 – no in-person registration will be accepted. \nIt’s going to be a night full of wonder\, giggles\, and holiday cheer. Don’t miss this magical evening at TDC! ❄️❤️
URL:https://www.thedancecompanyonline.com/event/story-time-with-santa/
LOCATION:TDC Studio\, 130 NH-101A\, Amherst\, NH\, 03031
CATEGORIES:Studio Event
ATTACH;FMTTYPE=image/png:https://www.thedancecompanyonline.com/wp-content/uploads/2025/10/Website-event-images-scaled.png
END:VEVENT
END:VCALENDAR